Workbook

Sheet Percentage Contribution Per Mon
A1: =25500/12 | B1: <- $25,500 / 12 | C1: Percentage of Monthly Base Pay to Contribute to Maximize TSP Contribution ($25,500) by Dec 31 2027 and Receive Full 5% Matching Each Month
B2: Less than 2 | C2: Over 2 | D2: Over 3 | E2: Over 4 | F2: Over 6 | G2: Over 8 | H2: Over 10 | I2: Over 12 | J2: Over 14 | K2: Over 16 | L2: Over 18 | M2: Over 20 | N2: Over 22 | O2: Over 24 | P2: Over 26
A3: E-9 | H3: =ROUNDUP($A$1/'2027 Monthly Base Pay'!H3,2) | I3: =ROUNDUP($A$1/'2027 Monthly Base Pay'!I3,2) | J3: =ROUNDUP($A$1/'2027 Monthly Base Pay'!J3,2) | K3: =ROUNDUP($A$1/'2027 Monthly Base Pay'!K3,2) | L3: =ROUNDUP($A$1/'2027 Monthly Base Pay'!L3,2) | M3: =ROUNDUP($A$1/'2027 Monthly Base Pay'!M3,2) | N3: =ROUNDUP($A$1/'2027 Monthly Base Pay'!N3,2) | O3: =ROUNDUP($A$1/'2027 Monthly Base Pay'!O3,2) | P3: =ROUNDUP($A$1/'2027 Monthly Base Pay'!P3,2)
A4: E-8 | G4: =ROUNDUP($A$1/'2027 Monthly Base Pay'!G4,2) | H4: =ROUNDUP($A$1/'2027 Monthly Base Pay'!H4,2) | I4: =ROUNDUP($A$1/'2027 Monthly Base Pay'!I4,2) | J4: =ROUNDUP($A$1/'2027 Monthly Base Pay'!J4,2) | K4: =ROUNDUP($A$1/'2027 Monthly Base Pay'!K4,2) | L4: =ROUNDUP($A$1/'2027 Monthly Base Pay'!L4,2) | M4: =ROUNDUP($A$1/'2027 Monthly Base Pay'!M4,2) | N4: =ROUNDUP($A$1/'2027 Monthly Base Pay'!N4,2) | ... P4: =ROUNDUP($A$1/'2027 Monthly Base Pay'!P4,2)
A5: E-7 | B5: =ROUNDUP($A$1/'2027 Monthly Base Pay'!B5,2) | C5: =ROUNDUP($A$1/'2027 Monthly Base Pay'!C5,2) | D5: =ROUNDUP($A$1/'2027 Monthly Base Pay'!D5,2) | E5: =ROUNDUP($A$1/'2027 Monthly Base Pay'!E5,2) | F5: =ROUNDUP($A$1/'2027 Monthly Base Pay'!F5,2) | G5: =ROUNDUP($A$1/'2027 Monthly Base Pay'!G5,2) | H5: =ROUNDUP($A$1/'2027 Monthly Base Pay'!H5,2) | I5: =ROUNDUP($A$1/'2027 Monthly Base Pay'!I5,2) | ... P5: =ROUNDUP($A$1/'2027 Monthly Base Pay'!P5,2)
A6: E-6 | B6: =ROUNDUP($A$1/'2027 Monthly Base Pay'!B6,2) | C6: =ROUNDUP($A$1/'2027 Monthly Base Pay'!C6,2) | D6: =ROUNDUP($A$1/'2027 Monthly Base Pay'!D6,2) | E6: =ROUNDUP($A$1/'2027 Monthly Base Pay'!E6,2) | F6: =ROUNDUP($A$1/'2027 Monthly Base Pay'!F6,2) | G6: =ROUNDUP($A$1/'2027 Monthly Base Pay'!G6,2) | H6: =ROUNDUP($A$1/'2027 Monthly Base Pay'!H6,2) | I6: =ROUNDUP($A$1/'2027 Monthly Base Pay'!I6,2) | ... P6: =ROUNDUP($A$1/'2027 Monthly Base Pay'!P6,2)
A7: E-5 | B7: =ROUNDUP($A$1/'2027 Monthly Base Pay'!B7,2) | C7: =ROUNDUP($A$1/'2027 Monthly Base Pay'!C7,2) | D7: =ROUNDUP($A$1/'2027 Monthly Base Pay'!D7,2) | E7: =ROUNDUP($A$1/'2027 Monthly Base Pay'!E7,2) | F7: =ROUNDUP($A$1/'2027 Monthly Base Pay'!F7,2) | G7: =ROUNDUP($A$1/'2027 Monthly Base Pay'!G7,2) | H7: =ROUNDUP($A$1/'2027 Monthly Base Pay'!H7,2) | I7: =ROUNDUP($A$1/'2027 Monthly Base Pay'!I7,2) | ... P7: =ROUNDUP($A$1/'2027 Monthly Base Pay'!P7,2)
A8: E-4 | B8: =ROUNDUP($A$1/'2027 Monthly Base Pay'!B8,2) | C8: =ROUNDUP($A$1/'2027 Monthly Base Pay'!C8,2) | D8: =ROUNDUP($A$1/'2027 Monthly Base Pay'!D8,2) | E8: =ROUNDUP($A$1/'2027 Monthly Base Pay'!E8,2) | F8: =ROUNDUP($A$1/'2027 Monthly Base Pay'!F8,2) | G8: =ROUNDUP($A$1/'2027 Monthly Base Pay'!G8,2) | H8: =ROUNDUP($A$1/'2027 Monthly Base Pay'!H8,2) | I8: =ROUNDUP($A$1/'2027 Monthly Base Pay'!I8,2) | ... P8: =ROUNDUP($A$1/'2027 Monthly Base Pay'!P8,2)
A9: E-3 | B9: =ROUNDUP($A$1/'2027 Monthly Base Pay'!B9,2) | C9: =ROUNDUP($A$1/'2027 Monthly Base Pay'!C9,2) | D9: =ROUNDUP($A$1/'2027 Monthly Base Pay'!D9,2) | E9: =ROUNDUP($A$1/'2027 Monthly Base Pay'!E9,2) | F9: =ROUNDUP($A$1/'2027 Monthly Base Pay'!F9,2) | G9: =ROUNDUP($A$1/'2027 Monthly Base Pay'!G9,2) | H9: =ROUNDUP($A$1/'2027 Monthly Base Pay'!H9,2) | I9: =ROUNDUP($A$1/'2027 Monthly Base Pay'!I9,2) | ... P9: =ROUNDUP($A$1/'2027 Monthly Base Pay'!P9,2)
A10: E-2 | B10: =ROUNDUP($A$1/'2027 Monthly Base Pay'!B10,2) | C10: =ROUNDUP($A$1/'2027 Monthly Base Pay'!C10,2) | D10: =ROUNDUP($A$1/'2027 Monthly Base Pay'!D10,2) | E10: =ROUNDUP($A$1/'2027 Monthly Base Pay'!E10,2) | F10: =ROUNDUP($A$1/'2027 Monthly Base Pay'!F10,2) | G10: =ROUNDUP($A$1/'2027 Monthly Base Pay'!G10,2) | H10: =ROUNDUP($A$1/'2027 Monthly Base Pay'!H10,2) | I10: =ROUNDUP($A$1/'2027 Monthly Base Pay'!I10,2) | ... P10: =ROUNDUP($A$1/'2027 Monthly Base Pay'!P10,2)
A11: E-1 | B11: =ROUNDUP($A$1/'2027 Monthly Base Pay'!B11,2) | C11: =ROUNDUP($A$1/'2027 Monthly Base Pay'!C11,2) | D11: =ROUNDUP($A$1/'2027 Monthly Base Pay'!D11,2) | E11: =ROUNDUP($A$1/'2027 Monthly Base Pay'!E11,2) | F11: =ROUNDUP($A$1/'2027 Monthly Base Pay'!F11,2) | G11: =ROUNDUP($A$1/'2027 Monthly Base Pay'!G11,2) | H11: =ROUNDUP($A$1/'2027 Monthly Base Pay'!H11,2) | I11: =ROUNDUP($A$1/'2027 Monthly Base Pay'!I11,2) | ... P11: =ROUNDUP($A$1/'2027 Monthly Base Pay'!P11,2)
B13: Less than 2 | C13: Over 2 | D13: Over 3 | E13: Over 4 | F13: Over 6 | G13: Over 8 | H13: Over 10 | I13: Over 12 | J13: Over 14 | K13: Over 16 | L13: Over 18 | M13: Over 20 | N13: Over 22 | O13: Over 24 | P13: Over 26
A14: O-8 | B14: =ROUNDUP($A$1/'2027 Monthly Base Pay'!B14,2) | C14: =ROUNDUP($A$1/'2027 Monthly Base Pay'!C14,2) | D14: =ROUNDUP($A$1/'2027 Monthly Base Pay'!D14,2) | E14: =ROUNDUP($A$1/'2027 Monthly Base Pay'!E14,2) | F14: =ROUNDUP($A$1/'2027 Monthly Base Pay'!F14,2) | G14: =ROUNDUP($A$1/'2027 Monthly Base Pay'!G14,2) | H14: =ROUNDUP($A$1/'2027 Monthly Base Pay'!H14,2) | I14: =ROUNDUP($A$1/'2027 Monthly Base Pay'!I14,2) | ... P14: =ROUNDUP($A$1/'2027 Monthly Base Pay'!P14,2)
A15: O-7 | B15: =ROUNDUP($A$1/'2027 Monthly Base Pay'!B15,2) | C15: =ROUNDUP($A$1/'2027 Monthly Base Pay'!C15,2) | D15: =ROUNDUP($A$1/'2027 Monthly Base Pay'!D15,2) | E15: =ROUNDUP($A$1/'2027 Monthly Base Pay'!E15,2) | F15: =ROUNDUP($A$1/'2027 Monthly Base Pay'!F15,2) | G15: =ROUNDUP($A$1/'2027 Monthly Base Pay'!G15,2) | H15: =ROUNDUP($A$1/'2027 Monthly Base Pay'!H15,2) | I15: =ROUNDUP($A$1/'2027 Monthly Base Pay'!I15,2) | ... P15: =ROUNDUP($A$1/'2027 Monthly Base Pay'!P15,2)
A16: O-6 | B16: =ROUNDUP($A$1/'2027 Monthly Base Pay'!B16,2) | C16: =ROUNDUP($A$1/'2027 Monthly Base Pay'!C16,2) | D16: =ROUNDUP($A$1/'2027 Monthly Base Pay'!D16,2) | E16: =ROUNDUP($A$1/'2027 Monthly Base Pay'!E16,2) | F16: =ROUNDUP($A$1/'2027 Monthly Base Pay'!F16,2) | G16: =ROUNDUP($A$1/'2027 Monthly Base Pay'!G16,2) | H16: =ROUNDUP($A$1/'2027 Monthly Base Pay'!H16,2) | I16: =ROUNDUP($A$1/'2027 Monthly Base Pay'!I16,2) | ... P16: =ROUNDUP($A$1/'2027 Monthly Base Pay'!P16,2)
A17: O-5 | B17: =ROUNDUP($A$1/'2027 Monthly Base Pay'!B17,2) | C17: =ROUNDUP($A$1/'2027 Monthly Base Pay'!C17,2) | D17: =ROUNDUP($A$1/'2027 Monthly Base Pay'!D17,2) | E17: =ROUNDUP($A$1/'2027 Monthly Base Pay'!E17,2) | F17: =ROUNDUP($A$1/'2027 Monthly Base Pay'!F17,2) | G17: =ROUNDUP($A$1/'2027 Monthly Base Pay'!G17,2) | H17: =ROUNDUP($A$1/'2027 Monthly Base Pay'!H17,2) | I17: =ROUNDUP($A$1/'2027 Monthly Base Pay'!I17,2) | ... P17: =ROUNDUP($A$1/'2027 Monthly Base Pay'!P17,2)
A18: O-4 | B18: =ROUNDUP($A$1/'2027 Monthly Base Pay'!B18,2) | C18: =ROUNDUP($A$1/'2027 Monthly Base Pay'!C18,2) | D18: =ROUNDUP($A$1/'2027 Monthly Base Pay'!D18,2) | E18: =ROUNDUP($A$1/'2027 Monthly Base Pay'!E18,2) | F18: =ROUNDUP($A$1/'2027 Monthly Base Pay'!F18,2) | G18: =ROUNDUP($A$1/'2027 Monthly Base Pay'!G18,2) | H18: =ROUNDUP($A$1/'2027 Monthly Base Pay'!H18,2) | I18: =ROUNDUP($A$1/'2027 Monthly Base Pay'!I18,2) | ... P18: =ROUNDUP($A$1/'2027 Monthly Base Pay'!P18,2)
A19: O-3 | B19: =ROUNDUP($A$1/'2027 Monthly Base Pay'!B19,2) | C19: =ROUNDUP($A$1/'2027 Monthly Base Pay'!C19,2) | D19: =ROUNDUP($A$1/'2027 Monthly Base Pay'!D19,2) | E19: =ROUNDUP($A$1/'2027 Monthly Base Pay'!E19,2) | F19: =ROUNDUP($A$1/'2027 Monthly Base Pay'!F19,2) | G19: =ROUNDUP($A$1/'2027 Monthly Base Pay'!G19,2) | H19: =ROUNDUP($A$1/'2027 Monthly Base Pay'!H19,2) | I19: =ROUNDUP($A$1/'2027 Monthly Base Pay'!I19,2) | ... P19: =ROUNDUP($A$1/'2027 Monthly Base Pay'!P19,2)
A20: O-2 | B20: =ROUNDUP($A$1/'2027 Monthly Base Pay'!B20,2) | C20: =ROUNDUP($A$1/'2027 Monthly Base Pay'!C20,2) | D20: =ROUNDUP($A$1/'2027 Monthly Base Pay'!D20,2) | E20: =ROUNDUP($A$1/'2027 Monthly Base Pay'!E20,2) | F20: =ROUNDUP($A$1/'2027 Monthly Base Pay'!F20,2) | G20: =ROUNDUP($A$1/'2027 Monthly Base Pay'!G20,2) | H20: =ROUNDUP($A$1/'2027 Monthly Base Pay'!H20,2) | I20: =ROUNDUP($A$1/'2027 Monthly Base Pay'!I20,2) | ... P20: =ROUNDUP($A$1/'2027 Monthly Base Pay'!P20,2)
A21: O-1 | B21: =ROUNDUP($A$1/'2027 Monthly Base Pay'!B21,2) | C21: =ROUNDUP($A$1/'2027 Monthly Base Pay'!C21,2) | D21: =ROUNDUP($A$1/'2027 Monthly Base Pay'!D21,2) | E21: =ROUNDUP($A$1/'2027 Monthly Base Pay'!E21,2) | F21: =ROUNDUP($A$1/'2027 Monthly Base Pay'!F21,2) | G21: =ROUNDUP($A$1/'2027 Monthly Base Pay'!G21,2) | H21: =ROUNDUP($A$1/'2027 Monthly Base Pay'!H21,2) | I21: =ROUNDUP($A$1/'2027 Monthly Base Pay'!I21,2) | ... P21: =ROUNDUP($A$1/'2027 Monthly Base Pay'!P21,2)
B23: Less than 2 | C23: Over 2 | D23: Over 3 | E23: Over 4 | F23: Over 6 | G23: Over 8 | H23: Over 10 | I23: Over 12 | J23: Over 14 | K23: Over 16 | L23: Over 18 | M23: Over 20 | N23: Over 22 | O23: Over 24 | P23: Over 26
A24: O-3E | E24: =ROUNDUP($A$1/'2027 Monthly Base Pay'!E24,2) | F24: =ROUNDUP($A$1/'2027 Monthly Base Pay'!F24,2) | G24: =ROUNDUP($A$1/'2027 Monthly Base Pay'!G24,2) | H24: =ROUNDUP($A$1/'2027 Monthly Base Pay'!H24,2) | I24: =ROUNDUP($A$1/'2027 Monthly Base Pay'!I24,2) | J24: =ROUNDUP($A$1/'2027 Monthly Base Pay'!J24,2) | K24: =ROUNDUP($A$1/'2027 Monthly Base Pay'!K24,2) | L24: =ROUNDUP($A$1/'2027 Monthly Base Pay'!L24,2) | ... P24: =ROUNDUP($A$1/'2027 Monthly Base Pay'!P24,2)
A25: O-2E | E25: =ROUNDUP($A$1/'2027 Monthly Base Pay'!E25,2) | F25: =ROUNDUP($A$1/'2027 Monthly Base Pay'!F25,2) | G25: =ROUNDUP($A$1/'2027 Monthly Base Pay'!G25,2) | H25: =ROUNDUP($A$1/'2027 Monthly Base Pay'!H25,2) | I25: =ROUNDUP($A$1/'2027 Monthly Base Pay'!I25,2) | J25: =ROUNDUP($A$1/'2027 Monthly Base Pay'!J25,2) | K25: =ROUNDUP($A$1/'2027 Monthly Base Pay'!K25,2) | L25: =ROUNDUP($A$1/'2027 Monthly Base Pay'!L25,2) | ... P25: =ROUNDUP($A$1/'2027 Monthly Base Pay'!P25,2)
A26: O-1E | E26: =ROUNDUP($A$1/'2027 Monthly Base Pay'!E26,2) | F26: =ROUNDUP($A$1/'2027 Monthly Base Pay'!F26,2) | G26: =ROUNDUP($A$1/'2027 Monthly Base Pay'!G26,2) | H26: =ROUNDUP($A$1/'2027 Monthly Base Pay'!H26,2) | I26: =ROUNDUP($A$1/'2027 Monthly Base Pay'!I26,2) | J26: =ROUNDUP($A$1/'2027 Monthly Base Pay'!J26,2) | K26: =ROUNDUP($A$1/'2027 Monthly Base Pay'!K26,2) | L26: =ROUNDUP($A$1/'2027 Monthly Base Pay'!L26,2) | ... P26: =ROUNDUP($A$1/'2027 Monthly Base Pay'!P26,2)
B28: Less than 2 | C28: Over 2 | D28: Over 3 | E28: Over 4 | F28: Over 6 | G28: Over 8 | H28: Over 10 | I28: Over 12 | J28: Over 14 | K28: Over 16 | L28: Over 18 | M28: Over 20 | N28: Over 22 | O28: Over 24 | P28: Over 26
A29: W-5 | M29: =ROUNDUP($A$1/'2027 Monthly Base Pay'!M29,2) | N29: =ROUNDUP($A$1/'2027 Monthly Base Pay'!N29,2) | O29: =ROUNDUP($A$1/'2027 Monthly Base Pay'!O29,2) | P29: =ROUNDUP($A$1/'2027 Monthly Base Pay'!P29,2)
A30: W-4 | B30: =ROUNDUP($A$1/'2027 Monthly Base Pay'!B30,2) | C30: =ROUNDUP($A$1/'2027 Monthly Base Pay'!C30,2) | D30: =ROUNDUP($A$1/'2027 Monthly Base Pay'!D30,2) | E30: =ROUNDUP($A$1/'2027 Monthly Base Pay'!E30,2) | F30: =ROUNDUP($A$1/'2027 Monthly Base Pay'!F30,2) | G30: =ROUNDUP($A$1/'2027 Monthly Base Pay'!G30,2) | H30: =ROUNDUP($A$1/'2027 Monthly Base Pay'!H30,2) | I30: =ROUNDUP($A$1/'2027 Monthly Base Pay'!I30,2) | ... P30: =ROUNDUP($A$1/'2027 Monthly Base Pay'!P30,2)
A31: W-3 | B31: =ROUNDUP($A$1/'2027 Monthly Base Pay'!B31,2) | C31: =ROUNDUP($A$1/'2027 Monthly Base Pay'!C31,2) | D31: =ROUNDUP($A$1/'2027 Monthly Base Pay'!D31,2) | E31: =ROUNDUP($A$1/'2027 Monthly Base Pay'!E31,2) | F31: =ROUNDUP($A$1/'2027 Monthly Base Pay'!F31,2) | G31: =ROUNDUP($A$1/'2027 Monthly Base Pay'!G31,2) | H31: =ROUNDUP($A$1/'2027 Monthly Base Pay'!H31,2) | I31: =ROUNDUP($A$1/'2027 Monthly Base Pay'!I31,2) | ... P31: =ROUNDUP($A$1/'2027 Monthly Base Pay'!P31,2)
A32: W-2 | B32: =ROUNDUP($A$1/'2027 Monthly Base Pay'!B32,2) | C32: =ROUNDUP($A$1/'2027 Monthly Base Pay'!C32,2) | D32: =ROUNDUP($A$1/'2027 Monthly Base Pay'!D32,2) | E32: =ROUNDUP($A$1/'2027 Monthly Base Pay'!E32,2) | F32: =ROUNDUP($A$1/'2027 Monthly Base Pay'!F32,2) | G32: =ROUNDUP($A$1/'2027 Monthly Base Pay'!G32,2) | H32: =ROUNDUP($A$1/'2027 Monthly Base Pay'!H32,2) | I32: =ROUNDUP($A$1/'2027 Monthly Base Pay'!I32,2) | ... P32: =ROUNDUP($A$1/'2027 Monthly Base Pay'!P32,2)
A33: W-1 | B33: =ROUNDUP($A$1/'2027 Monthly Base Pay'!B33,2) | C33: =ROUNDUP($A$1/'2027 Monthly Base Pay'!C33,2) | D33: =ROUNDUP($A$1/'2027 Monthly Base Pay'!D33,2) | E33: =ROUNDUP($A$1/'2027 Monthly Base Pay'!E33,2) | F33: =ROUNDUP($A$1/'2027 Monthly Base Pay'!F33,2) | G33: =ROUNDUP($A$1/'2027 Monthly Base Pay'!G33,2) | H33: =ROUNDUP($A$1/'2027 Monthly Base Pay'!H33,2) | I33: =ROUNDUP($A$1/'2027 Monthly Base Pay'!I33,2) | ... P33: =ROUNDUP($A$1/'2027 Monthly Base Pay'!P33,2)

Sheet 2027 Monthly Base Pay
A1: 2027 Monthly Military Base Pay
B2: Less than 2 | C2: Over 2 | D2: Over 3 | E2: Over 4 | F2: Over 6 | G2: Over 8 | H2: Over 10 | I2: Over 12 | J2: Over 14 | K2: Over 16 | L2: Over 18 | M2: Over 20 | N2: Over 22 | O2: Over 24 | P2: Over 26
A3: E-9 | H3: 7159 | I3: 7321 | J3: 7526 | K3: 7766 | L3: 8009 | M3: 8397 | N3: 8726 | O3: 9072 | P3: 9601
A4: E-8 | G4: 5860 | H4: 6119 | I4: 6280 | J4: 6472 | K4: 6680 | L4: 7056 | M4: 7247 | N4: 7571 | O4: 7751 | P4: 8194
A5: E-7 | B5: 4074 | C5: 4446 | D5: 4617 | E5: 4842 | F5: 5018 | G5: 5321 | H5: 5491 | I5: 5793 | J5: 6045 | K5: 6217 | L5: 6400 | M5: 6470 | N5: 6708 | O5: 6836 | P5: 7322
A6: E-6 | B6: 3524 | C6: 3878 | D6: 4049 | E6: 4215 | F6: 4389 | G6: 4779 | H6: 4931 | I6: 5226 | J6: 5315 | K6: 5381 | L6: 5457 | M6: 5457 | N6: 5457 | O6: 5457 | P6: 5457
A7: E-5 | B7: 3463 | C7: 3728 | D7: 3912 | E7: 4089 | F7: 4258 | G7: 4455 | H7: 4554 | I7: 4581 | J7: 4581 | K7: 4581 | L7: 4581 | M7: 4581 | N7: 4581 | O7: 4581 | P7: 4581
A8: E-4 | B8: 3255 | C8: 3422 | D8: 3608 | E8: 3790 | F8: 3953 | G8: 3953 | H8: 3953 | I8: 3953 | J8: 3953 | K8: 3953 | L8: 3953 | M8: 3953 | N8: 3953 | O8: 3953 | P8: 3953
A9: E-3 | B9: 2939 | C9: 3124 | D9: 3313 | E9: 3313 | F9: 3313 | G9: 3313 | H9: 3313 | I9: 3313 | J9: 3313 | K9: 3313 | L9: 3313 | M9: 3313 | N9: 3313 | O9: 3313 | P9: 3313
A10: E-2 | B10: 2795 | C10: 2795 | D10: 2795 | E10: 2795 | F10: 2795 | G10: 2795 | H10: 2795 | I10: 2795 | J10: 2795 | K10: 2795 | L10: 2795 | M10: 2795 | N10: 2795 | O10: 2795 | P10: 2795
A11: E-1 | B11: 2494 | C11: 2494 | D11: 2494 | E11: 2494 | F11: 2494 | G11: 2494 | H11: 2494 | I11: 2494 | J11: 2494 | K11: 2494 | L11: 2494 | M11: 2494 | N11: 2494 | O11: 2494 | P11: 2494
B13: Under 2 | C13: Over 2 | D13: Over 3 | E13: Over 4 | F13: Over 6 | G13: Over 8 | H13: Over 10 | I13: Over 12 | J13: Over 14 | K13: Over 16 | L13: Over 18 | M13: Over 20 | N13: Over 22 | O13: Over 24 | P13: Over 26
A14: O-8 | B14: 14388 | C14: 14860 | D14: 15173 | E14: 15260 | F14: 15651 | G14: 16302 | H14: 16454 | I14: 17073 | J14: 17251 | K14: 17784 | L14: 18556 | M14: 19268 | N14: 19743 | O14: 19743 | P14: 19743
A15: O-7 | B15: 11956 | C15: 12511 | D15: 12768 | E15: 12973 | F15: 13342 | G15: 13708 | H15: 14130 | I15: 14552 | J15: 14974 | K15: 16302 | L15: 17423 | M15: 17423 | N15: 17423 | O15: 17423 | P15: 17512
A16: O-6 | B16: 9066 | C16: 9960 | D16: 10614 | E16: 10614 | F16: 10655 | G16: 11111 | H16: 11172 | I16: 11172 | J16: 11806 | K16: 12929 | L16: 13588 | M16: 14246 | N16: 14621 | O16: 15001 | P16: 15736
A17: O-5 | B17: 7558 | C17: 8514 | D17: 9103 | E17: 9214 | F17: 9583 | G17: 9802 | H17: 10286 | I17: 10642 | J17: 11100 | K17: 11802 | L17: 12135 | M17: 12466 | N17: 12841 | O17: 12841 | P17: 12841
A18: O-4 | B18: 6521 | C18: 7549 | D18: 8053 | E18: 8164 | F18: 8632 | G18: 9134 | H18: 9759 | I18: 10244 | J18: 10582 | K18: 10776 | L18: 10889 | M18: 10889 | N18: 10889 | O18: 10889 | P18: 10889
A19: O-3 | B19: 5734 | C19: 6499 | D19: 7015 | E19: 7649 | F19: 8016 | G19: 8417 | H19: 8678 | I19: 9105 | J19: 9328 | K19: 9328 | L19: 9328 | M19: 9328 | N19: 9328 | O19: 9328 | P19: 9328
A20: O-2 | B20: 4954 | C20: 5642 | D20: 6498 | E20: 6718 | F20: 6856 | G20: 6856 | H20: 6856 | I20: 6856 | J20: 6856 | K20: 6856 | L20: 6856 | M20: 6856 | N20: 6856 | O20: 6856 | P20: 6856
A21: O-1 | B21: 4300 | C21: 4476 | D21: 5410 | E21: 5410 | F21: 5410 | G21: 5410 | H21: 5410 | I21: 5410 | J21: 5410 | K21: 5410 | L21: 5410 | M21: 5410 | N21: 5410 | O21: 5410 | P21: 5410
B23: Under 2 | C23: Over 2 | D23: Over 3 | E23: Over 4 | F23: Over 6 | G23: Over 8 | H23: Over 10 | I23: Over 12 | J23: Over 14 | K23: Over 16 | L23: Over 18 | M23: Over 20 | N23: Over 22 | O23: Over 24 | P23: Over 26
A24: O-3E | E24: 7649 | F24: 8016 | G24: 8417 | H24: 8678 | I24: 9105 | J24: 9466 | K24: 9673 | L24: 9955 | M24: 9955 | N24: 9955 | O24: 9955 | P24: 9955
A25: O-2E | E25: 6718 | F25: 6856 | G25: 7074 | H25: 7443 | I25: 7728 | J25: 7940 | K25: 7940 | L25: 7940 | M25: 7940 | N25: 7940 | O25: 7940 | P25: 7940
A26: O-1E | E26: 5410 | F26: 5777 | G26: 5991 | H26: 6210 | I26: 6424 | J26: 6718 | K26: 6718 | L26: 6718 | M26: 6718 | N26: 6718 | O26: 6718 | P26: 6718
B28: Under 2 | C28: Over 2 | D28: Over 3 | E28: Over 4 | F28: Over 6 | G28: Over 8 | H28: Over 10 | I28: Over 12 | J28: Over 14 | K28: Over 16 | L28: Over 18 | M28: Over 20 | N28: Over 22 | O28: Over 24 | P28: Over 26
A29: W-5 | M29: 10536 | N29: 11070 | O29: 11468 | P29: 11909
A30: W-4 | B30: 5926 | C30: 6374 | D30: 6557 | E30: 6737 | F30: 7047 | G30: 7354 | H30: 7664 | I30: 8131 | J30: 8541 | K30: 8930 | L30: 9250 | M30: 9561 | N30: 10017 | O30: 10393 | P30: 10821
A31: W-3 | B31: 5411 | C31: 5637 | D31: 5868 | E31: 5944 | F31: 6186 | G31: 6663 | H31: 7159 | I31: 7393 | J31: 7664 | K31: 7942 | L31: 8444 | M31: 8782 | N31: 8984 | O31: 9199 | P31: 9492
A32: W-2 | B32: 4788 | C32: 5241 | D32: 5381 | E32: 5476 | F32: 5787 | G32: 6269 | H32: 6509 | I32: 6744 | J32: 7032 | K32: 7257 | L32: 7461 | M32: 7705 | N32: 7865 | O32: 7992 | P32: 7992
A33: W-1 | B33: 4203 | C33: 4656 | D33: 4777 | E33: 5034 | F33: 5338 | G33: 5786 | H33: 5995 | I33: 6287 | J33: 6575 | K33: 6801 | L33: 7009 | M33: 7263 | N33: 7263 | O33: 7263 | P33: 7263

Sheet Monthly 5% Match Value
A1: 2027 Value of Your 5% Match Monthly
A2: Paygrade | B2: Less than 2* | C2: Over 2 | D2: Over 3 | E2: Over 4 | F2: Over 6 | G2: Over 8 | H2: Over 10 | I2: Over 12 | J2: Over 14 | K2: Over 16 | L2: Over 18 | M2: Over 20 | N2: Over 22 | O2: Over 24 | P2: Over 26
A3: E-9 | H3: =0.05*'2027 Monthly Base Pay'!H3 | I3: =0.05*'2027 Monthly Base Pay'!I3 | J3: =0.05*'2027 Monthly Base Pay'!J3 | K3: =0.05*'2027 Monthly Base Pay'!K3 | L3: =0.05*'2027 Monthly Base Pay'!L3 | M3: =0.05*'2027 Monthly Base Pay'!M3 | N3: =0.05*'2027 Monthly Base Pay'!N3 | O3: =0.05*'2027 Monthly Base Pay'!O3 | P3: =0.05*'2027 Monthly Base Pay'!P3
A4: E-8 | G4: =0.05*'2027 Monthly Base Pay'!G4 | H4: =0.05*'2027 Monthly Base Pay'!H4 | I4: =0.05*'2027 Monthly Base Pay'!I4 | J4: =0.05*'2027 Monthly Base Pay'!J4 | K4: =0.05*'2027 Monthly Base Pay'!K4 | L4: =0.05*'2027 Monthly Base Pay'!L4 | M4: =0.05*'2027 Monthly Base Pay'!M4 | N4: =0.05*'2027 Monthly Base Pay'!N4 | ... P4: =0.05*'2027 Monthly Base Pay'!P4
A5: E-7 | B5: =0.01*'2027 Monthly Base Pay'!B5 | C5: =0.05*'2027 Monthly Base Pay'!C5 | D5: =0.05*'2027 Monthly Base Pay'!D5 | E5: =0.05*'2027 Monthly Base Pay'!E5 | F5: =0.05*'2027 Monthly Base Pay'!F5 | G5: =0.05*'2027 Monthly Base Pay'!G5 | H5: =0.05*'2027 Monthly Base Pay'!H5 | I5: =0.05*'2027 Monthly Base Pay'!I5 | J5: =0.05*'2027 Monthly Base Pay'!J5 | ... P5: =0.05*'2027 Monthly Base Pay'!P5
A6: E-6 | B6: =0.01*'2027 Monthly Base Pay'!B6 | C6: =0.05*'2027 Monthly Base Pay'!C6 | D6: =0.05*'2027 Monthly Base Pay'!D6 | E6: =0.05*'2027 Monthly Base Pay'!E6 | F6: =0.05*'2027 Monthly Base Pay'!F6 | G6: =0.05*'2027 Monthly Base Pay'!G6 | H6: =0.05*'2027 Monthly Base Pay'!H6 | I6: =0.05*'2027 Monthly Base Pay'!I6 | J6: =0.05*'2027 Monthly Base Pay'!J6 | ... P6: =0.05*'2027 Monthly Base Pay'!P6
A7: E-5 | B7: =0.01*'2027 Monthly Base Pay'!B7 | C7: =0.05*'2027 Monthly Base Pay'!C7 | D7: =0.05*'2027 Monthly Base Pay'!D7 | E7: =0.05*'2027 Monthly Base Pay'!E7 | F7: =0.05*'2027 Monthly Base Pay'!F7 | G7: =0.05*'2027 Monthly Base Pay'!G7 | H7: =0.05*'2027 Monthly Base Pay'!H7 | I7: =0.05*'2027 Monthly Base Pay'!I7 | J7: =0.05*'2027 Monthly Base Pay'!J7 | ... P7: =0.05*'2027 Monthly Base Pay'!P7
A8: E-4 | B8: =0.01*'2027 Monthly Base Pay'!B8 | C8: =0.05*'2027 Monthly Base Pay'!C8 | D8: =0.05*'2027 Monthly Base Pay'!D8 | E8: =0.05*'2027 Monthly Base Pay'!E8 | F8: =0.05*'2027 Monthly Base Pay'!F8 | G8: =0.05*'2027 Monthly Base Pay'!G8 | H8: =0.05*'2027 Monthly Base Pay'!H8 | I8: =0.05*'2027 Monthly Base Pay'!I8 | J8: =0.05*'2027 Monthly Base Pay'!J8 | ... P8: =0.05*'2027 Monthly Base Pay'!P8
A9: E-3 | B9: =0.01*'2027 Monthly Base Pay'!B9 | C9: =0.05*'2027 Monthly Base Pay'!C9 | D9: =0.05*'2027 Monthly Base Pay'!D9 | E9: =0.05*'2027 Monthly Base Pay'!E9 | F9: =0.05*'2027 Monthly Base Pay'!F9 | G9: =0.05*'2027 Monthly Base Pay'!G9 | H9: =0.05*'2027 Monthly Base Pay'!H9 | I9: =0.05*'2027 Monthly Base Pay'!I9 | J9: =0.05*'2027 Monthly Base Pay'!J9 | ... P9: =0.05*'2027 Monthly Base Pay'!P9
A10: E-2 | B10: =0.01*'2027 Monthly Base Pay'!B10 | C10: =0.05*'2027 Monthly Base Pay'!C10 | D10: =0.05*'2027 Monthly Base Pay'!D10 | E10: =0.05*'2027 Monthly Base Pay'!E10 | F10: =0.05*'2027 Monthly Base Pay'!F10 | G10: =0.05*'2027 Monthly Base Pay'!G10 | H10: =0.05*'2027 Monthly Base Pay'!H10 | I10: =0.05*'2027 Monthly Base Pay'!I10 | J10: =0.05*'2027 Monthly Base Pay'!J10 | ... P10: =0.05*'2027 Monthly Base Pay'!P10
A11: E-1 | B11: =0.01*'2027 Monthly Base Pay'!B11 | C11: =0.05*'2027 Monthly Base Pay'!C11 | D11: =0.05*'2027 Monthly Base Pay'!D11 | E11: =0.05*'2027 Monthly Base Pay'!E11 | F11: =0.05*'2027 Monthly Base Pay'!F11 | G11: =0.05*'2027 Monthly Base Pay'!G11 | H11: =0.05*'2027 Monthly Base Pay'!H11 | I11: =0.05*'2027 Monthly Base Pay'!I11 | J11: =0.05*'2027 Monthly Base Pay'!J11 | ... P11: =0.05*'2027 Monthly Base Pay'!P11
B13: Less than 2* | C13: Over 2 | D13: Over 3 | E13: Over 4 | F13: Over 6 | G13: Over 8 | H13: Over 10 | I13: Over 12 | J13: Over 14 | K13: Over 16 | L13: Over 18 | M13: Over 20 | N13: Over 22 | O13: Over 24 | P13: Over 26
A14: O-8 | B14: =0.01*'2027 Monthly Base Pay'!B14 | C14: =0.05*'2027 Monthly Base Pay'!C14 | D14: =0.05*'2027 Monthly Base Pay'!D14 | E14: =0.05*'2027 Monthly Base Pay'!E14 | F14: =0.05*'2027 Monthly Base Pay'!F14 | G14: =0.05*'2027 Monthly Base Pay'!G14 | H14: =0.05*'2027 Monthly Base Pay'!H14 | I14: =0.05*'2027 Monthly Base Pay'!I14 | J14: =0.05*'2027 Monthly Base Pay'!J14 | ... P14: =0.05*'2027 Monthly Base Pay'!P14
A15: O-7 | B15: =0.01*'2027 Monthly Base Pay'!B15 | C15: =0.05*'2027 Monthly Base Pay'!C15 | D15: =0.05*'2027 Monthly Base Pay'!D15 | E15: =0.05*'2027 Monthly Base Pay'!E15 | F15: =0.05*'2027 Monthly Base Pay'!F15 | G15: =0.05*'2027 Monthly Base Pay'!G15 | H15: =0.05*'2027 Monthly Base Pay'!H15 | I15: =0.05*'2027 Monthly Base Pay'!I15 | J15: =0.05*'2027 Monthly Base Pay'!J15 | ... P15: =0.05*'2027 Monthly Base Pay'!P15
A16: O-6 | B16: =0.01*'2027 Monthly Base Pay'!B16 | C16: =0.05*'2027 Monthly Base Pay'!C16 | D16: =0.05*'2027 Monthly Base Pay'!D16 | E16: =0.05*'2027 Monthly Base Pay'!E16 | F16: =0.05*'2027 Monthly Base Pay'!F16 | G16: =0.05*'2027 Monthly Base Pay'!G16 | H16: =0.05*'2027 Monthly Base Pay'!H16 | I16: =0.05*'2027 Monthly Base Pay'!I16 | J16: =0.05*'2027 Monthly Base Pay'!J16 | ... P16: =0.05*'2027 Monthly Base Pay'!P16
A17: O-5 | B17: =0.01*'2027 Monthly Base Pay'!B17 | C17: =0.05*'2027 Monthly Base Pay'!C17 | D17: =0.05*'2027 Monthly Base Pay'!D17 | E17: =0.05*'2027 Monthly Base Pay'!E17 | F17: =0.05*'2027 Monthly Base Pay'!F17 | G17: =0.05*'2027 Monthly Base Pay'!G17 | H17: =0.05*'2027 Monthly Base Pay'!H17 | I17: =0.05*'2027 Monthly Base Pay'!I17 | J17: =0.05*'2027 Monthly Base Pay'!J17 | ... P17: =0.05*'2027 Monthly Base Pay'!P17
A18: O-4 | B18: =0.01*'2027 Monthly Base Pay'!B18 | C18: =0.05*'2027 Monthly Base Pay'!C18 | D18: =0.05*'2027 Monthly Base Pay'!D18 | E18: =0.05*'2027 Monthly Base Pay'!E18 | F18: =0.05*'2027 Monthly Base Pay'!F18 | G18: =0.05*'2027 Monthly Base Pay'!G18 | H18: =0.05*'2027 Monthly Base Pay'!H18 | I18: =0.05*'2027 Monthly Base Pay'!I18 | J18: =0.05*'2027 Monthly Base Pay'!J18 | ... P18: =0.05*'2027 Monthly Base Pay'!P18
A19: O-3 | B19: =0.01*'2027 Monthly Base Pay'!B19 | C19: =0.05*'2027 Monthly Base Pay'!C19 | D19: =0.05*'2027 Monthly Base Pay'!D19 | E19: =0.05*'2027 Monthly Base Pay'!E19 | F19: =0.05*'2027 Monthly Base Pay'!F19 | G19: =0.05*'2027 Monthly Base Pay'!G19 | H19: =0.05*'2027 Monthly Base Pay'!H19 | I19: =0.05*'2027 Monthly Base Pay'!I19 | J19: =0.05*'2027 Monthly Base Pay'!J19 | ... P19: =0.05*'2027 Monthly Base Pay'!P19
A20: O-2 | B20: =0.01*'2027 Monthly Base Pay'!B20 | C20: =0.05*'2027 Monthly Base Pay'!C20 | D20: =0.05*'2027 Monthly Base Pay'!D20 | E20: =0.05*'2027 Monthly Base Pay'!E20 | F20: =0.05*'2027 Monthly Base Pay'!F20 | G20: =0.05*'2027 Monthly Base Pay'!G20 | H20: =0.05*'2027 Monthly Base Pay'!H20 | I20: =0.05*'2027 Monthly Base Pay'!I20 | J20: =0.05*'2027 Monthly Base Pay'!J20 | ... P20: =0.05*'2027 Monthly Base Pay'!P20
A21: O-1 | B21: =0.01*'2027 Monthly Base Pay'!B21 | C21: =0.05*'2027 Monthly Base Pay'!C21 | D21: =0.05*'2027 Monthly Base Pay'!D21 | E21: =0.05*'2027 Monthly Base Pay'!E21 | F21: =0.05*'2027 Monthly Base Pay'!F21 | G21: =0.05*'2027 Monthly Base Pay'!G21 | H21: =0.05*'2027 Monthly Base Pay'!H21 | I21: =0.05*'2027 Monthly Base Pay'!I21 | J21: =0.05*'2027 Monthly Base Pay'!J21 | ... P21: =0.05*'2027 Monthly Base Pay'!P21
B23: Less than 2* | C23: Over 2 | D23: Over 3 | E23: Over 4 | F23: Over 6 | G23: Over 8 | H23: Over 10 | I23: Over 12 | J23: Over 14 | K23: Over 16 | L23: Over 18 | M23: Over 20 | N23: Over 22 | O23: Over 24 | P23: Over 26
A24: O-3E | E24: =0.05*'2027 Monthly Base Pay'!E24 | F24: =0.05*'2027 Monthly Base Pay'!F24 | G24: =0.05*'2027 Monthly Base Pay'!G24 | H24: =0.05*'2027 Monthly Base Pay'!H24 | I24: =0.05*'2027 Monthly Base Pay'!I24 | J24: =0.05*'2027 Monthly Base Pay'!J24 | K24: =0.05*'2027 Monthly Base Pay'!K24 | L24: =0.05*'2027 Monthly Base Pay'!L24 | ... P24: =0.05*'2027 Monthly Base Pay'!P24
A25: O-2E | E25: =0.05*'2027 Monthly Base Pay'!E25 | F25: =0.05*'2027 Monthly Base Pay'!F25 | G25: =0.05*'2027 Monthly Base Pay'!G25 | H25: =0.05*'2027 Monthly Base Pay'!H25 | I25: =0.05*'2027 Monthly Base Pay'!I25 | J25: =0.05*'2027 Monthly Base Pay'!J25 | K25: =0.05*'2027 Monthly Base Pay'!K25 | L25: =0.05*'2027 Monthly Base Pay'!L25 | ... P25: =0.05*'2027 Monthly Base Pay'!P25
A26: O-1E | E26: =0.05*'2027 Monthly Base Pay'!E26 | F26: =0.05*'2027 Monthly Base Pay'!F26 | G26: =0.05*'2027 Monthly Base Pay'!G26 | H26: =0.05*'2027 Monthly Base Pay'!H26 | I26: =0.05*'2027 Monthly Base Pay'!I26 | J26: =0.05*'2027 Monthly Base Pay'!J26 | K26: =0.05*'2027 Monthly Base Pay'!K26 | L26: =0.05*'2027 Monthly Base Pay'!L26 | ... P26: =0.05*'2027 Monthly Base Pay'!P26
B28: Less than 2* | C28: Over 2 | D28: Over 3 | E28: Over 4 | F28: Over 6 | G28: Over 8 | H28: Over 10 | I28: Over 12 | J28: Over 14 | K28: Over 16 | L28: Over 18 | M28: Over 20 | N28: Over 22 | O28: Over 24 | P28: Over 26
A29: W-5 | M29: =0.05*'2027 Monthly Base Pay'!M29 | N29: =0.05*'2027 Monthly Base Pay'!N29 | O29: =0.05*'2027 Monthly Base Pay'!O29 | P29: =0.05*'2027 Monthly Base Pay'!P29
A30: W-4 | B30: =0.01*'2027 Monthly Base Pay'!B30 | C30: =0.05*'2027 Monthly Base Pay'!C30 | D30: =0.05*'2027 Monthly Base Pay'!D30 | E30: =0.05*'2027 Monthly Base Pay'!E30 | F30: =0.05*'2027 Monthly Base Pay'!F30 | G30: =0.05*'2027 Monthly Base Pay'!G30 | H30: =0.05*'2027 Monthly Base Pay'!H30 | I30: =0.05*'2027 Monthly Base Pay'!I30 | J30: =0.05*'2027 Monthly Base Pay'!J30 | ... P30: =0.05*'2027 Monthly Base Pay'!P30
A31: W-3 | B31: =0.01*'2027 Monthly Base Pay'!B31 | C31: =0.05*'2027 Monthly Base Pay'!C31 | D31: =0.05*'2027 Monthly Base Pay'!D31 | E31: =0.05*'2027 Monthly Base Pay'!E31 | F31: =0.05*'2027 Monthly Base Pay'!F31 | G31: =0.05*'2027 Monthly Base Pay'!G31 | H31: =0.05*'2027 Monthly Base Pay'!H31 | I31: =0.05*'2027 Monthly Base Pay'!I31 | J31: =0.05*'2027 Monthly Base Pay'!J31 | ... P31: =0.05*'2027 Monthly Base Pay'!P31
A32: W-2 | B32: =0.01*'2027 Monthly Base Pay'!B32 | C32: =0.05*'2027 Monthly Base Pay'!C32 | D32: =0.05*'2027 Monthly Base Pay'!D32 | E32: =0.05*'2027 Monthly Base Pay'!E32 | F32: =0.05*'2027 Monthly Base Pay'!F32 | G32: =0.05*'2027 Monthly Base Pay'!G32 | H32: =0.05*'2027 Monthly Base Pay'!H32 | I32: =0.05*'2027 Monthly Base Pay'!I32 | J32: =0.05*'2027 Monthly Base Pay'!J32 | ... P32: =0.05*'2027 Monthly Base Pay'!P32
A33: W-1 | B33: =0.01*'2027 Monthly Base Pay'!B33 | C33: =0.05*'2027 Monthly Base Pay'!C33 | D33: =0.05*'2027 Monthly Base Pay'!D33 | E33: =0.05*'2027 Monthly Base Pay'!E33 | F33: =0.05*'2027 Monthly Base Pay'!F33 | G33: =0.05*'2027 Monthly Base Pay'!G33 | H33: =0.05*'2027 Monthly Base Pay'!H33 | I33: =0.05*'2027 Monthly Base Pay'!I33 | J33: =0.05*'2027 Monthly Base Pay'!J33 | ... P33: =0.05*'2027 Monthly Base Pay'!P33
B34: *1% Match Only Under 2 Years, 5% match doesn't start until 2 years time in service

Sheet Annual 5% Match Value
A1: 2027 Value of Your 5% Match Annually
A2: Paygrade | B2: Less than 2* | C2: Over 2 | D2: Over 3 | E2: Over 4 | F2: Over 6 | G2: Over 8 | H2: Over 10 | I2: Over 12 | J2: Over 14 | K2: Over 16 | L2: Over 18 | M2: Over 20 | N2: Over 22 | O2: Over 24 | P2: Over 26
A3: E-9 | H3: =0.05*'2027 Monthly Base Pay'!H3*12 | I3: =0.05*'2027 Monthly Base Pay'!I3*12 | J3: =0.05*'2027 Monthly Base Pay'!J3*12 | K3: =0.05*'2027 Monthly Base Pay'!K3*12 | L3: =0.05*'2027 Monthly Base Pay'!L3*12 | M3: =0.05*'2027 Monthly Base Pay'!M3*12 | N3: =0.05*'2027 Monthly Base Pay'!N3*12 | O3: =0.05*'2027 Monthly Base Pay'!O3*12 | P3: =0.05*'2027 Monthly Base Pay'!P3*12
A4: E-8 | G4: =0.05*'2027 Monthly Base Pay'!G4*12 | H4: =0.05*'2027 Monthly Base Pay'!H4*12 | I4: =0.05*'2027 Monthly Base Pay'!I4*12 | J4: =0.05*'2027 Monthly Base Pay'!J4*12 | K4: =0.05*'2027 Monthly Base Pay'!K4*12 | L4: =0.05*'2027 Monthly Base Pay'!L4*12 | M4: =0.05*'2027 Monthly Base Pay'!M4*12 | N4: =0.05*'2027 Monthly Base Pay'!N4*12 | ... P4: =0.05*'2027 Monthly Base Pay'!P4*12
A5: E-7 | B5: =0.01*'2027 Monthly Base Pay'!B5*12 | C5: =0.05*'2027 Monthly Base Pay'!C5*12 | D5: =0.05*'2027 Monthly Base Pay'!D5*12 | E5: =0.05*'2027 Monthly Base Pay'!E5*12 | F5: =0.05*'2027 Monthly Base Pay'!F5*12 | G5: =0.05*'2027 Monthly Base Pay'!G5*12 | H5: =0.05*'2027 Monthly Base Pay'!H5*12 | I5: =0.05*'2027 Monthly Base Pay'!I5*12 | J5: =0.05*'2027 Monthly Base Pay'!J5*12 | ... P5: =0.05*'2027 Monthly Base Pay'!P5*12
A6: E-6 | B6: =0.01*'2027 Monthly Base Pay'!B6*12 | C6: =0.05*'2027 Monthly Base Pay'!C6*12 | D6: =0.05*'2027 Monthly Base Pay'!D6*12 | E6: =0.05*'2027 Monthly Base Pay'!E6*12 | F6: =0.05*'2027 Monthly Base Pay'!F6*12 | G6: =0.05*'2027 Monthly Base Pay'!G6*12 | H6: =0.05*'2027 Monthly Base Pay'!H6*12 | I6: =0.05*'2027 Monthly Base Pay'!I6*12 | J6: =0.05*'2027 Monthly Base Pay'!J6*12 | ... P6: =0.05*'2027 Monthly Base Pay'!P6*12
A7: E-5 | B7: =0.01*'2027 Monthly Base Pay'!B7*12 | C7: =0.05*'2027 Monthly Base Pay'!C7*12 | D7: =0.05*'2027 Monthly Base Pay'!D7*12 | E7: =0.05*'2027 Monthly Base Pay'!E7*12 | F7: =0.05*'2027 Monthly Base Pay'!F7*12 | G7: =0.05*'2027 Monthly Base Pay'!G7*12 | H7: =0.05*'2027 Monthly Base Pay'!H7*12 | I7: =0.05*'2027 Monthly Base Pay'!I7*12 | J7: =0.05*'2027 Monthly Base Pay'!J7*12 | ... P7: =0.05*'2027 Monthly Base Pay'!P7*12
A8: E-4 | B8: =0.01*'2027 Monthly Base Pay'!B8*12 | C8: =0.05*'2027 Monthly Base Pay'!C8*12 | D8: =0.05*'2027 Monthly Base Pay'!D8*12 | E8: =0.05*'2027 Monthly Base Pay'!E8*12 | F8: =0.05*'2027 Monthly Base Pay'!F8*12 | G8: =0.05*'2027 Monthly Base Pay'!G8*12 | H8: =0.05*'2027 Monthly Base Pay'!H8*12 | I8: =0.05*'2027 Monthly Base Pay'!I8*12 | J8: =0.05*'2027 Monthly Base Pay'!J8*12 | ... P8: =0.05*'2027 Monthly Base Pay'!P8*12
A9: E-3 | B9: =0.01*'2027 Monthly Base Pay'!B9*12 | C9: =0.05*'2027 Monthly Base Pay'!C9*12 | D9: =0.05*'2027 Monthly Base Pay'!D9*12 | E9: =0.05*'2027 Monthly Base Pay'!E9*12 | F9: =0.05*'2027 Monthly Base Pay'!F9*12 | G9: =0.05*'2027 Monthly Base Pay'!G9*12 | H9: =0.05*'2027 Monthly Base Pay'!H9*12 | I9: =0.05*'2027 Monthly Base Pay'!I9*12 | J9: =0.05*'2027 Monthly Base Pay'!J9*12 | ... P9: =0.05*'2027 Monthly Base Pay'!P9*12
A10: E-2 | B10: =0.01*'2027 Monthly Base Pay'!B10*12 | C10: =0.05*'2027 Monthly Base Pay'!C10*12 | D10: =0.05*'2027 Monthly Base Pay'!D10*12 | E10: =0.05*'2027 Monthly Base Pay'!E10*12 | F10: =0.05*'2027 Monthly Base Pay'!F10*12 | G10: =0.05*'2027 Monthly Base Pay'!G10*12 | H10: =0.05*'2027 Monthly Base Pay'!H10*12 | I10: =0.05*'2027 Monthly Base Pay'!I10*12 | J10: =0.05*'2027 Monthly Base Pay'!J10*12 | ... P10: =0.05*'2027 Monthly Base Pay'!P10*12
A11: E-1 | B11: =0.01*'2027 Monthly Base Pay'!B11*12 | C11: =0.05*'2027 Monthly Base Pay'!C11*12 | D11: =0.05*'2027 Monthly Base Pay'!D11*12 | E11: =0.05*'2027 Monthly Base Pay'!E11*12 | F11: =0.05*'2027 Monthly Base Pay'!F11*12 | G11: =0.05*'2027 Monthly Base Pay'!G11*12 | H11: =0.05*'2027 Monthly Base Pay'!H11*12 | I11: =0.05*'2027 Monthly Base Pay'!I11*12 | J11: =0.05*'2027 Monthly Base Pay'!J11*12 | ... P11: =0.05*'2027 Monthly Base Pay'!P11*12
B13: Less than 2* | C13: Over 2 | D13: Over 3 | E13: Over 4 | F13: Over 6 | G13: Over 8 | H13: Over 10 | I13: Over 12 | J13: Over 14 | K13: Over 16 | L13: Over 18 | M13: Over 20 | N13: Over 22 | O13: Over 24 | P13: Over 26
A14: O-8 | B14: =0.01*'2027 Monthly Base Pay'!B14*12 | C14: =0.05*'2027 Monthly Base Pay'!C14*12 | D14: =0.05*'2027 Monthly Base Pay'!D14*12 | E14: =0.05*'2027 Monthly Base Pay'!E14*12 | F14: =0.05*'2027 Monthly Base Pay'!F14*12 | G14: =0.05*'2027 Monthly Base Pay'!G14*12 | H14: =0.05*'2027 Monthly Base Pay'!H14*12 | I14: =0.05*'2027 Monthly Base Pay'!I14*12 | J14: =0.05*'2027 Monthly Base Pay'!J14*12 | ... P14: =0.05*'2027 Monthly Base Pay'!P14*12
A15: O-7 | B15: =0.01*'2027 Monthly Base Pay'!B15*12 | C15: =0.05*'2027 Monthly Base Pay'!C15*12 | D15: =0.05*'2027 Monthly Base Pay'!D15*12 | E15: =0.05*'2027 Monthly Base Pay'!E15*12 | F15: =0.05*'2027 Monthly Base Pay'!F15*12 | G15: =0.05*'2027 Monthly Base Pay'!G15*12 | H15: =0.05*'2027 Monthly Base Pay'!H15*12 | I15: =0.05*'2027 Monthly Base Pay'!I15*12 | J15: =0.05*'2027 Monthly Base Pay'!J15*12 | ... P15: =0.05*'2027 Monthly Base Pay'!P15*12
A16: O-6 | B16: =0.01*'2027 Monthly Base Pay'!B16*12 | C16: =0.05*'2027 Monthly Base Pay'!C16*12 | D16: =0.05*'2027 Monthly Base Pay'!D16*12 | E16: =0.05*'2027 Monthly Base Pay'!E16*12 | F16: =0.05*'2027 Monthly Base Pay'!F16*12 | G16: =0.05*'2027 Monthly Base Pay'!G16*12 | H16: =0.05*'2027 Monthly Base Pay'!H16*12 | I16: =0.05*'2027 Monthly Base Pay'!I16*12 | J16: =0.05*'2027 Monthly Base Pay'!J16*12 | ... P16: =0.05*'2027 Monthly Base Pay'!P16*12
A17: O-5 | B17: =0.01*'2027 Monthly Base Pay'!B17*12 | C17: =0.05*'2027 Monthly Base Pay'!C17*12 | D17: =0.05*'2027 Monthly Base Pay'!D17*12 | E17: =0.05*'2027 Monthly Base Pay'!E17*12 | F17: =0.05*'2027 Monthly Base Pay'!F17*12 | G17: =0.05*'2027 Monthly Base Pay'!G17*12 | H17: =0.05*'2027 Monthly Base Pay'!H17*12 | I17: =0.05*'2027 Monthly Base Pay'!I17*12 | J17: =0.05*'2027 Monthly Base Pay'!J17*12 | ... P17: =0.05*'2027 Monthly Base Pay'!P17*12
A18: O-4 | B18: =0.01*'2027 Monthly Base Pay'!B18*12 | C18: =0.05*'2027 Monthly Base Pay'!C18*12 | D18: =0.05*'2027 Monthly Base Pay'!D18*12 | E18: =0.05*'2027 Monthly Base Pay'!E18*12 | F18: =0.05*'2027 Monthly Base Pay'!F18*12 | G18: =0.05*'2027 Monthly Base Pay'!G18*12 | H18: =0.05*'2027 Monthly Base Pay'!H18*12 | I18: =0.05*'2027 Monthly Base Pay'!I18*12 | J18: =0.05*'2027 Monthly Base Pay'!J18*12 | ... P18: =0.05*'2027 Monthly Base Pay'!P18*12
A19: O-3 | B19: =0.01*'2027 Monthly Base Pay'!B19*12 | C19: =0.05*'2027 Monthly Base Pay'!C19*12 | D19: =0.05*'2027 Monthly Base Pay'!D19*12 | E19: =0.05*'2027 Monthly Base Pay'!E19*12 | F19: =0.05*'2027 Monthly Base Pay'!F19*12 | G19: =0.05*'2027 Monthly Base Pay'!G19*12 | H19: =0.05*'2027 Monthly Base Pay'!H19*12 | I19: =0.05*'2027 Monthly Base Pay'!I19*12 | J19: =0.05*'2027 Monthly Base Pay'!J19*12 | ... P19: =0.05*'2027 Monthly Base Pay'!P19*12
A20: O-2 | B20: =0.01*'2027 Monthly Base Pay'!B20*12 | C20: =0.05*'2027 Monthly Base Pay'!C20*12 | D20: =0.05*'2027 Monthly Base Pay'!D20*12 | E20: =0.05*'2027 Monthly Base Pay'!E20*12 | F20: =0.05*'2027 Monthly Base Pay'!F20*12 | G20: =0.05*'2027 Monthly Base Pay'!G20*12 | H20: =0.05*'2027 Monthly Base Pay'!H20*12 | I20: =0.05*'2027 Monthly Base Pay'!I20*12 | J20: =0.05*'2027 Monthly Base Pay'!J20*12 | ... P20: =0.05*'2027 Monthly Base Pay'!P20*12
A21: O-1 | B21: =0.01*'2027 Monthly Base Pay'!B21*12 | C21: =0.05*'2027 Monthly Base Pay'!C21*12 | D21: =0.05*'2027 Monthly Base Pay'!D21*12 | E21: =0.05*'2027 Monthly Base Pay'!E21*12 | F21: =0.05*'2027 Monthly Base Pay'!F21*12 | G21: =0.05*'2027 Monthly Base Pay'!G21*12 | H21: =0.05*'2027 Monthly Base Pay'!H21*12 | I21: =0.05*'2027 Monthly Base Pay'!I21*12 | J21: =0.05*'2027 Monthly Base Pay'!J21*12 | ... P21: =0.05*'2027 Monthly Base Pay'!P21*12
B23: Less than 2* | C23: Over 2 | D23: Over 3 | E23: Over 4 | F23: Over 6 | G23: Over 8 | H23: Over 10 | I23: Over 12 | J23: Over 14 | K23: Over 16 | L23: Over 18 | M23: Over 20 | N23: Over 22 | O23: Over 24 | P23: Over 26
A24: O-3E | E24: =0.05*'2027 Monthly Base Pay'!E24*12 | F24: =0.05*'2027 Monthly Base Pay'!F24*12 | G24: =0.05*'2027 Monthly Base Pay'!G24*12 | H24: =0.05*'2027 Monthly Base Pay'!H24*12 | I24: =0.05*'2027 Monthly Base Pay'!I24*12 | J24: =0.05*'2027 Monthly Base Pay'!J24*12 | K24: =0.05*'2027 Monthly Base Pay'!K24*12 | L24: =0.05*'2027 Monthly Base Pay'!L24*12 | ... P24: =0.05*'2027 Monthly Base Pay'!P24*12
A25: O-2E | E25: =0.05*'2027 Monthly Base Pay'!E25*12 | F25: =0.05*'2027 Monthly Base Pay'!F25*12 | G25: =0.05*'2027 Monthly Base Pay'!G25*12 | H25: =0.05*'2027 Monthly Base Pay'!H25*12 | I25: =0.05*'2027 Monthly Base Pay'!I25*12 | J25: =0.05*'2027 Monthly Base Pay'!J25*12 | K25: =0.05*'2027 Monthly Base Pay'!K25*12 | L25: =0.05*'2027 Monthly Base Pay'!L25*12 | ... P25: =0.05*'2027 Monthly Base Pay'!P25*12
A26: O-1E | E26: =0.05*'2027 Monthly Base Pay'!E26*12 | F26: =0.05*'2027 Monthly Base Pay'!F26*12 | G26: =0.05*'2027 Monthly Base Pay'!G26*12 | H26: =0.05*'2027 Monthly Base Pay'!H26*12 | I26: =0.05*'2027 Monthly Base Pay'!I26*12 | J26: =0.05*'2027 Monthly Base Pay'!J26*12 | K26: =0.05*'2027 Monthly Base Pay'!K26*12 | L26: =0.05*'2027 Monthly Base Pay'!L26*12 | ... P26: =0.05*'2027 Monthly Base Pay'!P26*12
B28: Less than 2* | C28: Over 2 | D28: Over 3 | E28: Over 4 | F28: Over 6 | G28: Over 8 | H28: Over 10 | I28: Over 12 | J28: Over 14 | K28: Over 16 | L28: Over 18 | M28: Over 20 | N28: Over 22 | O28: Over 24 | P28: Over 26
A29: W-5 | M29: =0.05*'2027 Monthly Base Pay'!M29*12 | N29: =0.05*'2027 Monthly Base Pay'!N29*12 | O29: =0.05*'2027 Monthly Base Pay'!O29*12 | P29: =0.05*'2027 Monthly Base Pay'!P29*12
A30: W-4 | B30: =0.01*'2027 Monthly Base Pay'!B30*12 | C30: =0.05*'2027 Monthly Base Pay'!C30*12 | D30: =0.05*'2027 Monthly Base Pay'!D30*12 | E30: =0.05*'2027 Monthly Base Pay'!E30*12 | F30: =0.05*'2027 Monthly Base Pay'!F30*12 | G30: =0.05*'2027 Monthly Base Pay'!G30*12 | H30: =0.05*'2027 Monthly Base Pay'!H30*12 | I30: =0.05*'2027 Monthly Base Pay'!I30*12 | J30: =0.05*'2027 Monthly Base Pay'!J30*12 | ... P30: =0.05*'2027 Monthly Base Pay'!P30*12
A31: W-3 | B31: =0.01*'2027 Monthly Base Pay'!B31*12 | C31: =0.05*'2027 Monthly Base Pay'!C31*12 | D31: =0.05*'2027 Monthly Base Pay'!D31*12 | E31: =0.05*'2027 Monthly Base Pay'!E31*12 | F31: =0.05*'2027 Monthly Base Pay'!F31*12 | G31: =0.05*'2027 Monthly Base Pay'!G31*12 | H31: =0.05*'2027 Monthly Base Pay'!H31*12 | I31: =0.05*'2027 Monthly Base Pay'!I31*12 | J31: =0.05*'2027 Monthly Base Pay'!J31*12 | ... P31: =0.05*'2027 Monthly Base Pay'!P31*12
A32: W-2 | B32: =0.01*'2027 Monthly Base Pay'!B32*12 | C32: =0.05*'2027 Monthly Base Pay'!C32*12 | D32: =0.05*'2027 Monthly Base Pay'!D32*12 | E32: =0.05*'2027 Monthly Base Pay'!E32*12 | F32: =0.05*'2027 Monthly Base Pay'!F32*12 | G32: =0.05*'2027 Monthly Base Pay'!G32*12 | H32: =0.05*'2027 Monthly Base Pay'!H32*12 | I32: =0.05*'2027 Monthly Base Pay'!I32*12 | J32: =0.05*'2027 Monthly Base Pay'!J32*12 | ... P32: =0.05*'2027 Monthly Base Pay'!P32*12
A33: W-1 | B33: =0.01*'2027 Monthly Base Pay'!B33*12 | C33: =0.05*'2027 Monthly Base Pay'!C33*12 | D33: =0.05*'2027 Monthly Base Pay'!D33*12 | E33: =0.05*'2027 Monthly Base Pay'!E33*12 | F33: =0.05*'2027 Monthly Base Pay'!F33*12 | G33: =0.05*'2027 Monthly Base Pay'!G33*12 | H33: =0.05*'2027 Monthly Base Pay'!H33*12 | I33: =0.05*'2027 Monthly Base Pay'!I33*12 | J33: =0.05*'2027 Monthly Base Pay'!J33*12 | ... P33: =0.05*'2027 Monthly Base Pay'!P33*12
B34: *1% Match Only Under 2 Years, 5% match doesn't start until 2 years time in service

Sheet draft pay chart
A2: Pay Grade | B2: Years of Service | M2: Pay Grade | N2: Years of Service
B3: Less than 2 | C3: Over 2 | D3: Over 3 | E3: Over 4 | F3: Over 6 | G3: Over 8 | H3: Over 10 | I3: Over 12 | J3: Over 14 | K3: Over 16 | N3: Over 18 | O3: Over 20 | P3: Over 22 | Q3: Over 24 | R3: Over 26
A4: E-7 | B4: 3625 | C4: 3956 | D4: 4108 | E4: 4308 | F4: 4465 | G4: E-9 | I4: 6370 | J4: 6515 | K4: 6697 | L4: 6910 | M4: E-9 | N4: 7127 | O4: 7472 | P4: 7765 | Q4: 8073 | R4: 8544
A5: E-6 | B5: 3135 | C5: 3450 | D5: 3603 | E5: 3751 | F5: 3905 | G5: E-8 | H5: 5215 | I5: 5445 | J5: 5588 | K5: 5759 | L5: 5945 | M5: E-8 | N5: 6279 | O5: 6449 | P5: 6737 | Q5: 6897 | R5: 7291
A6: E-5 | B6: 2872 | C6: 3066 | D6: 3214 | E6: 3366 | F6: 3602 | G6: E-7 | H6: 4734 | I6: 4886 | J6: 5155 | K6: 5380 | L6: 5532 | M6: E-7 | N6: 5695 | O6: 5758 | P6: 5970 | Q6: 6083 | R6: 6515
A7: E-4 | B7: 2634 | C7: 2769 | D7: 2918 | E7: 3067 | F7: 3197 | G7: E-6 | H7: 4252 | I7: 4388 | J7: 4650 | K7: 4730 | L7: 4788 | M7: E-6 | N7: 4856 | O7: 4856 | P7: 4856 | Q7: 4856 | R7: 4856
A8: E-3 | B8: 2378 | C8: 2527 | D8: 2680 | E8: 2680 | F8: 2680 | G8: E-5 | H8: 3849 | I8: 4052 | J8: 4076 | K8: 4076 | L8: 4076 | M8: E-5 | N8: 4076 | O8: 4076 | P8: 4076 | Q8: 4076 | R8: 4076
A9: E-2 | B9: 2261 | C9: 2261 | D9: 2261 | E9: 2261 | F9: 2261 | G9: E-4 | H9: 3197 | I9: 3197 | J9: 3197 | K9: 3197 | L9: 3197 | M9: E-4 | N9: 3197 | O9: 3197 | P9: 3197 | Q9: 3197 | R9: 3197
A10: E-1 | B10: 2017 | C10: 2017 | D10: 2017 | E10: 2017 | F10: 2017 | G10: E-3 | H10: 2680 | I10: 2680 | J10: 2680 | K10: 2680 | L10: 2680 | M10: E-3 | N10: 2680 | O10: 2680 | P10: 2680 | Q10: 2680 | R10: 2680
A11: E-1Less than 4 months | B11: 1865 | G11: E-2 | H11: 2261 | I11: 2261 | J11: 2261 | K11: 2261 | L11: 2261 | M11: E-2 | N11: 2261 | O11: 2261 | P11: 2261 | Q11: 2261 | R11: 2261
G12: E-1 | H12: 2017 | I12: 2017 | J12: 2017 | K12: 2017 | L12: 2017 | M12: E-1 | N12: 2017 | O12: 2017 | P12: 2017 | Q12: 2017 | R12: 2017
A13: Pay Grade | B13: Years of Service | G13: Pay Grade | H13: Years of Service | M13: Pay Grade | N13: Years of Service
B14: Under 2 | C14: Over 2 | D14: Over 3 | E14: Over 4 | F14: Over 6 | H14: Over 8 | I14: Over 10 | J14: Over 12 | K14: Over 14 | L14: Over 16 | N14: Over 18 | O14: Over 20 | P14: Over 22 | Q14: Over 24 | R14: Over 26
A15: O-8 | B15: 12804 | C15: 13223 | D15: 13502 | E15: 13579 | F15: 13927 | G15: O-8 | H15: 14507 | I15: 14642 | J15: 15193 | K15: 15351 | L15: 15826 | M15: O-10*Note 1 | O15: 18653 | P15: 18653 | Q15: 18653 | R15: 18653
A16: O-7 | B16: 10639 | C16: 11133 | D16: 11362 | E16: 11544 | F16: 11873 | G16: O-7 | H16: 12198 | I16: 12574 | J16: 12949 | K16: 13325 | L16: 14507 | M16: O-9*Note 1 | O16: 17552 | P16: 17805 | Q16: 18170 | R16: 18653
A17: O-6 | B17: 8068 | C17: 8864 | D17: 9445 | E17: 9445 | F17: 9481 | G17: O-6 | H17: 9888 | I17: 9941 | J17: 9941 | K17: 10506 | L17: 11505 | M17: O-8*Note 1 | N17: 16513 | O17: 17146 | P17: 17569 | Q17: 17569 | R17: 17569
A18: O-5 | B18: 6726 | C18: 7577 | D18: 8101 | E18: 8200 | F18: 8527 | G18: O-5 | H18: 8723 | I18: 9153 | J18: 9470 | K18: 9878 | L18: 10502 | M18: O-7*Note 1 | N18: 15504 | O18: 15504 | P18: 15504 | Q18: 15504 | R18: 15584
A19: O-4 | B19: 5803 | C19: 6717 | D19: 7166 | E19: 7265 | F19: 7682 | G19: O-4 | H19: 8128 | I19: 8684 | J19: 9116 | K19: 9417 | L19: 9589 | M19: O-6*Note 2 | N19: 12091 | O19: 12677 | P19: 13011 | Q19: 13349 | R19: 14003
A20: O-3 | B20: 5102 | C20: 5783 | D20: 6242 | E20: 6806 | F20: 7133 | G20: O-3 | H20: 7490 | I20: 7722 | J20: 8102 | K20: 8301 | L20: 8301 | M20: O-5 | N20: 10799 | O20: 11093 | P20: 11427 | Q20: 11427 | R20: 11427
A21: O-2 | B21: 4409 | C21: 5021 | D21: 5782 | E21: 5978 | F21: 6101 | G21: O-2 | H21: 6101 | I21: 6101 | J21: 6101 | K21: 6101 | L21: 6101 | M21: O-4 | N21: 9689 | O21: 9689 | P21: 9689 | Q21: 9689 | R21: 9689
A22: O-1 | B22: 3826 | C22: 3983 | D22: 4815 | E22: 4815 | F22: 4815 | G22: O-1 | H22: 4815 | I22: 4815 | J22: 4815 | K22: 4815 | L22: 4815 | M22: O-3 | N22: 8301 | O22: 8301 | P22: 8301 | Q22: 8301 | R22: 8301
M23: O-2 | N23: 6101 | O23: 6101 | P23: 6101 | Q23: 6101 | R23: 6101
M24: O-1 | N24: 4815 | O24: 4815 | P24: 4815 | Q24: 4815 | R24: 4815
A25: Commissioned Officer With Over 4 Years of Active Service as an Enlisted Member or Warrant Officer | G25: Commissioned Officer With Over 4 Years of Active Service as an Enlisted Member or Warrant Officer
A26: O-3E | B26: 8859 | C26: 8859 | D26: 8859 | E26: 8859 | F26: 8859 | G26: O-3E | H26: 7490 | I26: 7722 | J26: 8102 | K26: 8423 | L26: 8608 | M26: O-3E | N26: 8859 | O26: 8859 | P26: 8859 | Q26: 8859 | R26: 8859
A27: O-2E | B27: 7065 | C27: 7065 | D27: 7065 | E27: 7065 | F27: 7065 | G27: O-2E | H27: 6295 | I27: 6623 | J27: 6877 | K27: 7065 | L27: 7065 | M27: O-2E | N27: 7065 | O27: 7065 | P27: 7065 | Q27: 7065 | R27: 7065
A28: O-1E | B28: 5978 | C28: 5978 | D28: 5978 | E28: 5978 | F28: 5978 | G28: O-1E | H28: 5331 | I28: 5526 | J28: 5717 | K28: 5978 | L28: 5978 | M28: O-1E | N28: 5978 | O28: 5978 | P28: 5978 | Q28: 5978 | R28: 5978
A31: W-4 | B31: 5273 | C31: 5672 | D31: 5835 | E31: 5995 | F31: 6271 | H31: Over 8 | I31: Over 10 | J31: Over 12 | K31: Over 14 | L31: Over 16 | N31: Over 18 | O31: Over 20 | P31: Over 22 | Q31: Over 24 | R31: Over 26
A32: W-3 | B32: 4815 | C32: 5016 | D32: 5222 | E32: 5290 | F32: 5504 | G32: W-4 | H32: 6220 | I32: 6483 | J32: 6878 | K32: 7224 | L32: 7554 | M32: W-5 | O32: 9376 | P32: 9851 | Q32: 10205 | R32: 10597
A33: W-2 | B33: 4261 | C33: 4664 | D33: 4788 | E33: 4873 | F33: 5149 | G33: W-3 | H33: 5636 | I33: 6056 | J33: 6254 | K33: 6483 | L33: 6718 | M33: W-4 | N33: 8231 | O33: 8508 | P33: 8914 | Q33: 9248 | R33: 9630
A34: W-1 | B34: 3740 | C34: 4143 | D34: 4251 | E34: 4479 | F34: 4750 | G34: W-2 | H34: 5303 | I34: 5505 | J34: 5704 | K34: 5948 | L34: 6139 | M34: W-3 | N34: 7514 | O34: 7815 | P34: 7995 | Q34: 8186 | R34: 8447
G35: W-1 | H35: 4894 | I35: 5071 | J35: 5318 | K35: 5562 | L35: 5753 | M35: W-2 | N35: 6639 | O35: 6856 | P35: 6999 | Q35: 7112 | R35: 7112
M36: W-1 | N36: 6237 | O36: 6463 | P36: 6463 | Q36: 6463 | R36: 6463
